BEGIN:VCALENDAR
VERSION:2.0
PRODID:spatie/icalendar-generator
DESCRIPTION:Events from Casa Rural El Limonero
X-WR-CALDESC:Events from Casa Rural El Limonero
REFRESH-INTERVAL;VALUE=DURATION:PT1440M
X-PUBLISHED-TTL:PT1440M
BEGIN:VTIMEZONE
TZID:Etc/GMT+0
BEGIN:STANDARD
DTSTART:20230911T000000Z
TZOFFSETFROM:+0000
TZOFFSETTO:+0000
END:STANDARD
END:VTIMEZONE
BEGIN:VTIMEZONE
TZID:UTC
BEGIN:STANDARD
DTSTART:20250725T121942Z
TZOFFSETFROM:+0000
TZOFFSETTO:+0000
END:STANDARD
END:VTIMEZONE
BEGIN:VEVENT
UID:2-1
DTSTAMP:20260421T121942Z
SUMMARY:Casa Ocupada
LOCATION:
ORGANIZER;CN=admin_limonero:MAILTO:jorge.caballero@hubdecomunicacion.com
DTSTART;TZID=Etc/GMT+0;VALUE=DATE:20240607
DTEND;TZID=Etc/GMT+0;VALUE=DATE:20240610
X-ALT-DESC;FMTTYPE=TEXT/HTML:
CATEGORIES:General
URL;VALUE=URI:https://casalimo.kitdigitalhub.es/index.php/mc-events/casa-oc
 upada/?mc_id=2
END:VEVENT
END:VCALENDAR